BEGIN:VCALENDAR
VERSION:2.0
PRODID:-//Novi Turizam - ECPv4.6.20.1//NONSGML v1.0//EN
CALSCALE:GREGORIAN
METHOD:PUBLISH
X-WR-CALNAME:Novi Turizam
X-ORIGINAL-URL:https://www.novi-turizam.hr/kantrida-bivio
X-WR-CALDESC:Events for Novi Turizam
BEGIN:VEVENT
DTSTART;VALUE=DATE:20190815
DTEND;VALUE=DATE:20190816
DTSTAMP:20260422T101626
CREATED:20190813T154103Z
LAST-MODIFIED:20190904T154628Z
UID:453-1565827200-1565913599@www.novi-turizam.hr
SUMMARY:Ukazanje Majke Božje na Morskom Prascu
DESCRIPTION:
URL:https://www.novi-turizam.hr/kantrida-bivio/dogadaj/ukazanje-majke-bozje-na-morskom-prascu/
CATEGORIES:Morski prasac
ATTACH;FMTTYPE=image/jpeg:https://www.novi-turizam.hr/kantrida-bivio/wp-content/uploads/2019/09/2.jpg
END:VEVENT
END:VCALENDAR